Package: MiChip Version: 1.61.0 Command: chmod a+r MiChip -R && E:\biocbuild\bbs-3.21-bioc\R\bin\R.exe CMD build --keep-empty-dirs --no-resave-data MiChip StartedAt: 2025-02-12 19:58:37 -0500 (Wed, 12 Feb 2025) EndedAt: 2025-02-12 19:59:09 -0500 (Wed, 12 Feb 2025) EllapsedTime: 32.1 seconds RetCode: 0 Status: OK PackageFile: MiChip_1.61.0.tar.gz PackageFileSize: 540 KiB