Package: MiChip Version: 1.61.0 Command: E:\biocbuild\bbs-3.21-bioc\R\bin\R.exe CMD INSTALL MiChip StartedAt: 2025-02-09 15:23:31 -0500 (Sun, 09 Feb 2025) EndedAt: 2025-02-09 15:23:48 -0500 (Sun, 09 Feb 2025) EllapsedTime: 16.7 seconds RetCode: 0 Status: OK