Package: MiRaGE Version: 1.49.0 Command: rm -rf MiRaGE.buildbin-libdir && mkdir MiRaGE.buildbin-libdir && /Users/biocbuild/BBS/utils/build-universal.sh MiRaGE_1.49.0.tar.gz /Library/Frameworks/R.framework/Resources/bin/R MiRaGE.buildbin-libdir StartedAt: 2025-02-12 22:26:34 -0500 (Wed, 12 Feb 2025) EndedAt: 2025-02-12 22:26:40 -0500 (Wed, 12 Feb 2025) EllapsedTime: 6.1 seconds RetCode: 0 Status: OK PackageFile: MiRaGE_1.49.0.tgz PackageFileSize: 1.353 MiB