Package: MiRaGE Version: 1.49.0 Command: /Library/Frameworks/R.framework/Resources/bin/R CMD build --keep-empty-dirs --no-resave-data MiRaGE StartedAt: 2025-02-09 16:57:17 -0500 (Sun, 09 Feb 2025) EndedAt: 2025-02-09 16:57:44 -0500 (Sun, 09 Feb 2025) EllapsedTime: 27.3 seconds RetCode: 0 Status: OK PackageFile: MiRaGE_1.49.0.tar.gz PackageFileSize: 1.313 MiB