Package: MiRaGE Version: 1.49.0 Command: /Library/Frameworks/R.framework/Resources/bin/R CMD check --install=check:MiRaGE.install-out.txt --library=/Library/Frameworks/R.framework/Resources/library --no-vignettes --timings MiRaGE_1.49.0.tar.gz StartedAt: 2025-02-09 20:07:47 -0500 (Sun, 09 Feb 2025) EndedAt: 2025-02-09 20:08:28 -0500 (Sun, 09 Feb 2025) EllapsedTime: 40.4 seconds RetCode: 0 Status: WARNINGS CheckDir: MiRaGE.Rcheck Warnings: 1