Package: MiRaGE Version: 1.49.0 Command: /Library/Frameworks/R.framework/Resources/bin/R CMD INSTALL MiRaGE StartedAt: 2025-02-12 15:07:15 -0500 (Wed, 12 Feb 2025) EndedAt: 2025-02-12 15:07:21 -0500 (Wed, 12 Feb 2025) EllapsedTime: 5.8 seconds RetCode: 0 Status: OK