Package: MiRaGE Version: 1.49.0 Command: /home/biocbuild/R/R/bin/R CMD build --keep-empty-dirs --no-resave-data MiRaGE StartedAt: 2025-01-29 00:22:00 -0000 (Wed, 29 Jan 2025) EndedAt: 2025-01-29 00:23:10 -0000 (Wed, 29 Jan 2025) EllapsedTime: 70.0 seconds RetCode: 0 Status: OK PackageFile: MiRaGE_1.49.0.tar.gz PackageFileSize: 1.296 MiB