Package: MiRaGE Version: 1.49.0 Command: rm -rf MiRaGE.buildbin-libdir && mkdir MiRaGE.buildbin-libdir && /Users/biocbuild/BBS/utils/build-universal.sh MiRaGE_1.49.0.tar.gz /Library/Frameworks/R.framework/Resources/bin/R MiRaGE.buildbin-libdir StartedAt: 2025-02-10 01:03:00 -0500 (Mon, 10 Feb 2025) EndedAt: 2025-02-10 01:03:21 -0500 (Mon, 10 Feb 2025) EllapsedTime: 20.9 seconds RetCode: 0 Status: OK PackageFile: MiRaGE_1.49.0.tgz PackageFileSize: 1.353 MiB