Package: MiRaGE Version: 1.49.0 Command: /Library/Frameworks/R.framework/Resources/bin/R CMD INSTALL MiRaGE StartedAt: 2025-02-09 15:14:46 -0500 (Sun, 09 Feb 2025) EndedAt: 2025-02-09 15:15:04 -0500 (Sun, 09 Feb 2025) EllapsedTime: 17.6 seconds RetCode: 0 Status: OK