Package: MiRaGE Version: 1.49.0 Command: /home/biocbuild/bbs-3.21-bioc/R/bin/R CMD check --install=check:MiRaGE.install-out.txt --library=/home/biocbuild/bbs-3.21-bioc/R/site-library --timings MiRaGE_1.49.0.tar.gz StartedAt: 2025-02-10 00:11:14 -0500 (Mon, 10 Feb 2025) EndedAt: 2025-02-10 00:13:38 -0500 (Mon, 10 Feb 2025) EllapsedTime: 144.2 seconds RetCode: 0 Status: WARNINGS CheckDir: MiRaGE.Rcheck Warnings: 1