Package: MiRaGE Version: 1.49.0 Command: /home/biocbuild/bbs-3.21-bioc/R/bin/R CMD INSTALL MiRaGE StartedAt: 2025-02-09 15:57:04 -0500 (Sun, 09 Feb 2025) EndedAt: 2025-02-09 15:57:16 -0500 (Sun, 09 Feb 2025) EllapsedTime: 12.5 seconds RetCode: 0 Status: OK