Package: MiRaGE Version: 1.49.0 Command: chmod a+r MiRaGE -R && E:\biocbuild\bbs-3.21-bioc\R\bin\R.exe CMD build --keep-empty-dirs --no-resave-data MiRaGE StartedAt: 2025-02-12 20:01:21 -0500 (Wed, 12 Feb 2025) EndedAt: 2025-02-12 20:02:41 -0500 (Wed, 12 Feb 2025) EllapsedTime: 79.7 seconds RetCode: 0 Status: OK PackageFile: MiRaGE_1.49.0.tar.gz PackageFileSize: 1.17 MiB