Package: MicrobiomeProfiler Version: 1.13.0 Command: /home/biocbuild/R/R/bin/R CMD INSTALL MicrobiomeProfiler StartedAt: 2025-01-29 20:22:18 -0000 (Wed, 29 Jan 2025) EndedAt: 2025-01-29 20:22:50 -0000 (Wed, 29 Jan 2025) EllapsedTime: 31.8 seconds RetCode: 0 Status: OK