Package: MicrobiomeProfiler Version: 1.13.0 Command: rm -rf MicrobiomeProfiler.buildbin-libdir && mkdir MicrobiomeProfiler.buildbin-libdir && /Users/biocbuild/BBS/utils/build-universal.sh MicrobiomeProfiler_1.13.0.tar.gz /Library/Frameworks/R.framework/Resources/bin/R MicrobiomeProfiler.buildbin-libdir StartedAt: 2025-02-10 01:02:42 -0500 (Mon, 10 Feb 2025) EndedAt: 2025-02-10 01:03:15 -0500 (Mon, 10 Feb 2025) EllapsedTime: 33.5 seconds RetCode: 0 Status: OK PackageFile: MicrobiomeProfiler_1.13.0.tgz PackageFileSize: 948.3 KiB