Package: MicrobiomeProfiler Version: 1.13.0 Command: /Library/Frameworks/R.framework/Resources/bin/R CMD build --keep-empty-dirs --no-resave-data MicrobiomeProfiler StartedAt: 2025-02-09 17:26:47 -0500 (Sun, 09 Feb 2025) EndedAt: 2025-02-09 17:27:21 -0500 (Sun, 09 Feb 2025) EllapsedTime: 34.4 seconds RetCode: 0 Status: OK PackageFile: MicrobiomeProfiler_1.13.0.tar.gz PackageFileSize: 1.051 MiB