Package: MicrobiomeProfiler Version: 1.13.0 Command: /Library/Frameworks/R.framework/Resources/bin/R CMD check --install=check:MicrobiomeProfiler.install-out.txt --library=/Library/Frameworks/R.framework/Resources/library --no-vignettes --timings MicrobiomeProfiler_1.13.0.tar.gz StartedAt: 2025-02-09 21:54:18 -0500 (Sun, 09 Feb 2025) EndedAt: 2025-02-09 21:57:31 -0500 (Sun, 09 Feb 2025) EllapsedTime: 192.7 seconds RetCode: 0 Status: OK CheckDir: MicrobiomeProfiler.Rcheck Warnings: 0