Package: MicrobiomeProfiler Version: 1.13.0 Command: /home/biocbuild/bbs-3.21-bioc/R/bin/R CMD check --install=check:MicrobiomeProfiler.install-out.txt --library=/home/biocbuild/bbs-3.21-bioc/R/site-library --timings MicrobiomeProfiler_1.13.0.tar.gz StartedAt: 2025-02-10 00:08:24 -0500 (Mon, 10 Feb 2025) EndedAt: 2025-02-10 00:11:10 -0500 (Mon, 10 Feb 2025) EllapsedTime: 166.2 seconds RetCode: 0 Status: OK CheckDir: MicrobiomeProfiler.Rcheck Warnings: 0