Package: MicrobiomeProfiler Version: 1.13.0 Command: /home/biocbuild/bbs-3.21-bioc/R/bin/R CMD INSTALL MicrobiomeProfiler StartedAt: 2025-02-09 15:46:21 -0500 (Sun, 09 Feb 2025) EndedAt: 2025-02-09 15:46:44 -0500 (Sun, 09 Feb 2025) EllapsedTime: 23.0 seconds RetCode: 0 Status: OK