Package: MicrobiomeProfiler Version: 1.13.0 Command: rm -rf MicrobiomeProfiler.buildbin-libdir && mkdir MicrobiomeProfiler.buildbin-libdir && E:\biocbuild\bbs-3.21-bioc\R\bin\R.exe CMD INSTALL --build --library=MicrobiomeProfiler.buildbin-libdir MicrobiomeProfiler_1.13.0.tar.gz StartedAt: 2025-02-05 08:20:33 -0500 (Wed, 05 Feb 2025) EndedAt: 2025-02-05 08:21:39 -0500 (Wed, 05 Feb 2025) EllapsedTime: 65.5 seconds RetCode: 0 Status: OK PackageFile: MicrobiomeProfiler_1.13.0.zip PackageFileSize: 952.3 KiB