Package: MicrobiomeProfiler Version: 1.13.0 Command: chmod a+r MicrobiomeProfiler -R && E:\biocbuild\bbs-3.21-bioc\R\bin\R.exe CMD build --keep-empty-dirs --no-resave-data MicrobiomeProfiler StartedAt: 2025-02-04 19:56:06 -0500 (Tue, 04 Feb 2025) EndedAt: 2025-02-04 19:57:03 -0500 (Tue, 04 Feb 2025) EllapsedTime: 56.6 seconds RetCode: 0 Status: OK PackageFile: MicrobiomeProfiler_1.13.0.tar.gz PackageFileSize: 1.051 MiB