Package: MicrobiomeProfiler Version: 1.13.0 Command: E:\biocbuild\bbs-3.21-bioc\R\bin\R.exe CMD INSTALL MicrobiomeProfiler StartedAt: 2025-02-04 16:36:42 -0500 (Tue, 04 Feb 2025) EndedAt: 2025-02-04 16:37:45 -0500 (Tue, 04 Feb 2025) EllapsedTime: 63.4 seconds RetCode: 0 Status: OK