Package: MicrobiotaProcess Version: 1.19.0 Command: /Library/Frameworks/R.framework/Resources/bin/R CMD check --install=check:MicrobiotaProcess.install-out.txt --library=/Library/Frameworks/R.framework/Resources/library --no-vignettes --timings MicrobiotaProcess_1.19.0.tar.gz StartedAt: 2025-02-09 21:54:19 -0500 (Sun, 09 Feb 2025) EndedAt: 2025-02-09 22:00:30 -0500 (Sun, 09 Feb 2025) EllapsedTime: 371.0 seconds RetCode: 0 Status: OK CheckDir: MicrobiotaProcess.Rcheck Warnings: 0