Package: MicrobiotaProcess Version: 1.19.0 Command: /home/biocbuild/bbs-3.21-bioc/R/bin/R CMD INSTALL MicrobiotaProcess StartedAt: 2025-02-12 15:18:16 -0500 (Wed, 12 Feb 2025) EndedAt: 2025-02-12 15:19:18 -0500 (Wed, 12 Feb 2025) EllapsedTime: 62.2 seconds RetCode: 0 Status: OK