Package: MineICA Version: 1.47.0 Maintainer: Anne Biton MaintainerEmail: anne.biton at gmail.com git_url: https://git.bioconductor.org/packages/MineICA git_branch: devel git_last_commit: 0cd440c git_last_commit_date: 2024-10-29 09:44:37 -0500 (Tue, 29 Oct 2024)