Package: MineICA Version: 1.47.0 Command: /Library/Frameworks/R.framework/Resources/bin/R CMD INSTALL MineICA StartedAt: 2025-02-04 15:28:41 -0500 (Tue, 04 Feb 2025) EndedAt: 2025-02-04 15:28:55 -0500 (Tue, 04 Feb 2025) EllapsedTime: 14.4 seconds RetCode: 0 Status: OK