Package: MineICA Version: 1.47.0 Command: /home/biocbuild/R/R/bin/R CMD INSTALL MineICA StartedAt: 2025-01-29 20:36:17 -0000 (Wed, 29 Jan 2025) EndedAt: 2025-01-29 20:37:10 -0000 (Wed, 29 Jan 2025) EllapsedTime: 53.1 seconds RetCode: 0 Status: OK