Package: MineICA Version: 1.47.0 Command: /Library/Frameworks/R.framework/Resources/bin/R CMD build --keep-empty-dirs --no-resave-data MineICA StartedAt: 2025-02-04 17:22:32 -0500 (Tue, 04 Feb 2025) EndedAt: 2025-02-04 17:24:34 -0500 (Tue, 04 Feb 2025) EllapsedTime: 122.4 seconds RetCode: 0 Status: OK PackageFile: MineICA_1.47.0.tar.gz PackageFileSize: 1.433 MiB