Package: MineICA Version: 1.47.0 Command: /Library/Frameworks/R.framework/Resources/bin/R CMD check --install=check:MineICA.install-out.txt --library=/Library/Frameworks/R.framework/Resources/library --no-vignettes --timings MineICA_1.47.0.tar.gz StartedAt: 2025-02-04 21:40:11 -0500 (Tue, 04 Feb 2025) EndedAt: 2025-02-04 21:45:10 -0500 (Tue, 04 Feb 2025) EllapsedTime: 299.8 seconds RetCode: 0 Status: WARNINGS CheckDir: MineICA.Rcheck Warnings: 3