Package: MineICA Version: 1.47.0 Command: /home/biocbuild/bbs-3.21-bioc/R/bin/R CMD check --install=check:MineICA.install-out.txt --library=/home/biocbuild/bbs-3.21-bioc/R/site-library --timings MineICA_1.47.0.tar.gz StartedAt: 2025-02-05 00:18:06 -0500 (Wed, 05 Feb 2025) EndedAt: 2025-02-05 00:23:49 -0500 (Wed, 05 Feb 2025) EllapsedTime: 343.4 seconds RetCode: 0 Status: WARNINGS CheckDir: MineICA.Rcheck Warnings: 3