Package: MineICA Version: 1.47.0 Command: /home/biocbuild/bbs-3.21-bioc/R/bin/R CMD INSTALL MineICA StartedAt: 2025-02-04 15:58:06 -0500 (Tue, 04 Feb 2025) EndedAt: 2025-02-04 15:58:42 -0500 (Tue, 04 Feb 2025) EllapsedTime: 35.4 seconds RetCode: 0 Status: OK