Package: MineICA Version: 1.47.0 Command: rm -rf MineICA.buildbin-libdir && mkdir MineICA.buildbin-libdir && E:\biocbuild\bbs-3.21-bioc\R\bin\R.exe CMD INSTALL --build --library=MineICA.buildbin-libdir MineICA_1.47.0.tar.gz StartedAt: 2025-02-05 08:21:18 -0500 (Wed, 05 Feb 2025) EndedAt: 2025-02-05 08:23:30 -0500 (Wed, 05 Feb 2025) EllapsedTime: 132.2 seconds RetCode: 0 Status: OK PackageFile: MineICA_1.47.0.zip PackageFileSize: 2.195 MiB