Package: MineICA Version: 1.47.0 Command: E:\biocbuild\bbs-3.21-bioc\R\bin\R.exe CMD INSTALL MineICA StartedAt: 2025-02-04 16:54:19 -0500 (Tue, 04 Feb 2025) EndedAt: 2025-02-04 16:56:04 -0500 (Tue, 04 Feb 2025) EllapsedTime: 105.5 seconds RetCode: 0 Status: OK