Package: ModCon Version: 1.15.0 Command: /Library/Frameworks/R.framework/Resources/bin/R CMD INSTALL ModCon StartedAt: 2025-02-09 15:02:53 -0500 (Sun, 09 Feb 2025) EndedAt: 2025-02-09 15:02:58 -0500 (Sun, 09 Feb 2025) EllapsedTime: 5.2 seconds RetCode: 0 Status: OK