Package: ModCon Version: 1.15.0 Command: /Library/Frameworks/R.framework/Resources/bin/R CMD build --keep-empty-dirs --no-resave-data ModCon StartedAt: 2025-02-12 17:25:55 -0500 (Wed, 12 Feb 2025) EndedAt: 2025-02-12 17:28:12 -0500 (Wed, 12 Feb 2025) EllapsedTime: 137.0 seconds RetCode: 0 Status: OK PackageFile: ModCon_1.15.0.tar.gz PackageFileSize: 1.912 MiB