Package: ModCon Version: 1.15.0 Command: /Library/Frameworks/R.framework/Resources/bin/R CMD check --install=check:ModCon.install-out.txt --library=/Library/Frameworks/R.framework/Resources/library --no-vignettes --timings ModCon_1.15.0.tar.gz StartedAt: 2025-02-12 21:47:42 -0500 (Wed, 12 Feb 2025) EndedAt: 2025-02-12 21:52:24 -0500 (Wed, 12 Feb 2025) EllapsedTime: 281.2 seconds RetCode: 0 Status: OK CheckDir: ModCon.Rcheck Warnings: 0