Package: ModCon Version: 1.15.0 Command: /home/biocbuild/bbs-3.21-bioc/R/bin/R CMD check --install=check:ModCon.install-out.txt --library=/home/biocbuild/bbs-3.21-bioc/R/site-library --timings ModCon_1.15.0.tar.gz StartedAt: 2025-02-10 00:19:43 -0500 (Mon, 10 Feb 2025) EndedAt: 2025-02-10 00:25:23 -0500 (Mon, 10 Feb 2025) EllapsedTime: 340.4 seconds RetCode: 0 Status: OK CheckDir: ModCon.Rcheck Warnings: 0