Package: ModCon Version: 1.15.0 Command: chmod a+r ModCon -R && E:\biocbuild\bbs-3.21-bioc\R\bin\R.exe CMD build --keep-empty-dirs --no-resave-data ModCon StartedAt: 2025-02-09 20:00:14 -0500 (Sun, 09 Feb 2025) EndedAt: 2025-02-09 20:02:56 -0500 (Sun, 09 Feb 2025) EllapsedTime: 162.4 seconds RetCode: 0 Status: OK PackageFile: ModCon_1.15.0.tar.gz PackageFileSize: 1.912 MiB