Package: ModCon Version: 1.15.0 Command: E:\biocbuild\bbs-3.21-bioc\R\bin\R.exe CMD INSTALL ModCon StartedAt: 2025-02-09 15:26:20 -0500 (Sun, 09 Feb 2025) EndedAt: 2025-02-09 15:26:48 -0500 (Sun, 09 Feb 2025) EllapsedTime: 27.4 seconds RetCode: 0 Status: OK