Package: Modstrings Version: 1.23.0 Command: rm -rf Modstrings.buildbin-libdir && mkdir Modstrings.buildbin-libdir && /Users/biocbuild/BBS/utils/build-universal.sh Modstrings_1.23.0.tar.gz /Library/Frameworks/R.framework/Resources/bin/R Modstrings.buildbin-libdir StartedAt: 2025-02-09 22:21:45 -0500 (Sun, 09 Feb 2025) EndedAt: 2025-02-09 22:21:53 -0500 (Sun, 09 Feb 2025) EllapsedTime: 8.2 seconds RetCode: 0 Status: OK PackageFile: Modstrings_1.23.0.tgz PackageFileSize: 1.349 MiB