Package: Modstrings Version: 1.23.0 Command: /home/biocbuild/R/R/bin/R CMD check --install=check:Modstrings.install-out.txt --library=/home/biocbuild/R/R/site-library --no-vignettes --timings Modstrings_1.23.0.tar.gz StartedAt: 2025-01-28 12:40:20 -0000 (Tue, 28 Jan 2025) EndedAt: 2025-01-28 12:43:31 -0000 (Tue, 28 Jan 2025) EllapsedTime: 191.3 seconds RetCode: 0 Status: OK CheckDir: Modstrings.Rcheck Warnings: 0