Package: Modstrings Version: 1.23.0 Command: /Library/Frameworks/R.framework/Resources/bin/R CMD check --install=check:Modstrings.install-out.txt --library=/Library/Frameworks/R.framework/Resources/library --no-vignettes --timings Modstrings_1.23.0.tar.gz StartedAt: 2025-02-09 22:01:27 -0500 (Sun, 09 Feb 2025) EndedAt: 2025-02-09 22:04:02 -0500 (Sun, 09 Feb 2025) EllapsedTime: 155.7 seconds RetCode: 0 Status: OK CheckDir: Modstrings.Rcheck Warnings: 0