Package: Modstrings Version: 1.23.0 Command: rm -rf Modstrings.buildbin-libdir && mkdir Modstrings.buildbin-libdir && E:\biocbuild\bbs-3.21-bioc\R\bin\R.exe CMD INSTALL --build --library=Modstrings.buildbin-libdir Modstrings_1.23.0.tar.gz StartedAt: 2025-02-10 08:10:51 -0500 (Mon, 10 Feb 2025) EndedAt: 2025-02-10 08:12:35 -0500 (Mon, 10 Feb 2025) EllapsedTime: 103.5 seconds RetCode: 0 Status: OK PackageFile: Modstrings_1.23.0.zip PackageFileSize: 1.359 MiB