Package: Modstrings Version: 1.23.0 Command: chmod a+r Modstrings -R && E:\biocbuild\bbs-3.21-bioc\R\bin\R.exe CMD build --keep-empty-dirs --no-resave-data Modstrings StartedAt: 2025-02-09 20:00:26 -0500 (Sun, 09 Feb 2025) EndedAt: 2025-02-09 20:01:37 -0500 (Sun, 09 Feb 2025) EllapsedTime: 71.8 seconds RetCode: 0 Status: OK PackageFile: Modstrings_1.23.0.tar.gz PackageFileSize: 824.1 KiB