Package: Modstrings Version: 1.23.0 Command: E:\biocbuild\bbs-3.21-bioc\R\bin\R.exe CMD INSTALL Modstrings StartedAt: 2025-02-09 15:50:11 -0500 (Sun, 09 Feb 2025) EndedAt: 2025-02-09 15:52:02 -0500 (Sun, 09 Feb 2025) EllapsedTime: 110.3 seconds RetCode: 0 Status: OK