Package: Moonlight2R Version: 1.5.4 Maintainer: Matteo Tiberti MaintainerEmail: tiberti at cancer.dk git_url: https://git.bioconductor.org/packages/Moonlight2R git_branch: devel git_last_commit: 552fc09 git_last_commit_date: 2025-01-24 08:44:16 -0500 (Fri, 24 Jan 2025)