Package: Moonlight2R Version: 1.5.4 Command: /Library/Frameworks/R.framework/Resources/bin/R CMD INSTALL Moonlight2R StartedAt: 2025-02-09 15:23:13 -0500 (Sun, 09 Feb 2025) EndedAt: 2025-02-09 15:23:35 -0500 (Sun, 09 Feb 2025) EllapsedTime: 22.3 seconds RetCode: 0 Status: OK