Package: Moonlight2R Version: 1.5.4 Command: /home/biocbuild/R/R/bin/R CMD build --keep-empty-dirs --no-resave-data Moonlight2R StartedAt: 2025-01-29 00:30:44 -0000 (Wed, 29 Jan 2025) EndedAt: 2025-01-29 00:39:53 -0000 (Wed, 29 Jan 2025) EllapsedTime: 549.2 seconds RetCode: 0 Status: OK PackageFile: Moonlight2R_1.5.4.tar.gz PackageFileSize: 4.837 MiB