Package: Moonlight2R Version: 1.5.4 Command: /home/biocbuild/R/R/bin/R CMD INSTALL Moonlight2R StartedAt: 2025-01-29 20:23:52 -0000 (Wed, 29 Jan 2025) EndedAt: 2025-01-29 20:25:02 -0000 (Wed, 29 Jan 2025) EllapsedTime: 70.3 seconds RetCode: 0 Status: OK