Package: Moonlight2R Version: 1.5.4 Command: rm -rf Moonlight2R.buildbin-libdir && mkdir Moonlight2R.buildbin-libdir && /Users/biocbuild/BBS/utils/build-universal.sh Moonlight2R_1.5.4.tar.gz /Library/Frameworks/R.framework/Resources/bin/R Moonlight2R.buildbin-libdir StartedAt: 2025-02-05 00:49:55 -0500 (Wed, 05 Feb 2025) EndedAt: 2025-02-05 00:51:10 -0500 (Wed, 05 Feb 2025) EllapsedTime: 75.1 seconds RetCode: 0 Status: OK PackageFile: Moonlight2R_1.5.4.tgz PackageFileSize: 4.621 MiB