Package: Moonlight2R Version: 1.5.4 Command: /Library/Frameworks/R.framework/Resources/bin/R CMD check --install=check:Moonlight2R.install-out.txt --library=/Library/Frameworks/R.framework/Resources/library --no-vignettes --timings Moonlight2R_1.5.4.tar.gz StartedAt: 2025-02-09 22:03:15 -0500 (Sun, 09 Feb 2025) EndedAt: 2025-02-09 22:16:24 -0500 (Sun, 09 Feb 2025) EllapsedTime: 788.8 seconds RetCode: 0 Status: OK CheckDir: Moonlight2R.Rcheck Warnings: 0